BEGIN:VCALENDAR
VERSION:2.0
PRODID:icalendar-ruby
CALSCALE:GREGORIAN
METHOD:PUBLISH
BEGIN:VEVENT
DTSTAMP:20260421T080005Z
UID:5-313813@wesleychapelumcnc.com
DTSTART:20261018T150000Z
DTEND:20261018T160000Z
CLASS:PUBLIC
CREATED:20260416T162753
DESCRIPTION:Sunday Worship
LAST-MODIFIED:20260416T162753
LOCATION:
SUMMARY:Sunday Worship
URL;VALUE=URI:https://wesleychapelumcnc.com/events/sunday-worship/2026-10-1
 8
END:VEVENT
END:VCALENDAR
