BEGIN:VCALENDAR
VERSION:2.0
PRODID:icalendar-ruby
CALSCALE:GREGORIAN
METHOD:PUBLISH
BEGIN:VEVENT
DTSTAMP:20260421T093330Z
UID:5-313814@wesleychapelumcnc.com
DTSTART:20261025T150000Z
DTEND:20261025T160000Z
CLASS:PUBLIC
CREATED:20260416T162753
DESCRIPTION:Sunday Worship
LAST-MODIFIED:20260416T162753
LOCATION:
SUMMARY:Sunday Worship
URL;VALUE=URI:https://wesleychapelumcnc.com/events/sunday-worship/2026-10-2
 5
END:VEVENT
END:VCALENDAR
